View In:
ArcGIS JavaScript
ArcGIS Online Map Viewer
ArcGIS Earth
ArcMap
View Footprint In:
ArcGIS Online Map Viewer
Service Description: WSEL raster that had gaps filled using linear interpolation from nearby elevations. Original WSEL is 2yr raster.
Name: SRWMD/wsel2yrfill
Description: WSEL raster that had gaps filled using linear interpolation from nearby elevations. Original WSEL is 2yr raster.
Single Fused Map Cache: false
Extent:
XMin: 2121985.019197178
YMin: 139848.33492071612
XMax: 2736785.019197178
YMax: 604128.3349207161
Spatial Reference: 2883
(2883)
LatestVCSWkid(0)
Initial Extent:
XMin: 2121985.019197178
YMin: 139848.33492071612
XMax: 2736785.019197178
YMax: 604128.3349207161
Spatial Reference: 2883
(2883)
LatestVCSWkid(0)
Full Extent:
XMin: 2121985.019197178
YMin: 139848.33492071612
XMax: 2736785.019197178
YMax: 604128.3349207161
Spatial Reference: 2883
(2883)
LatestVCSWkid(0)
Pixel Size X: 20.0
Pixel Size Y: 20.0
Band Count: 1
Pixel Type: F32
RasterFunction Infos: {"rasterFunctionInfos": [{
"name": "None",
"description": "",
"help": ""
}]}
Mensuration Capabilities: Basic
Has Histograms: true
Has Colormap: false
Has Multi Dimensions : false
Rendering Rule:
Min Scale: 0
Max Scale: 0
Copyright Text:
Service Data Type: esriImageServiceDataTypeGeneric
Min Values: 2.1600000858306885
Max Values: 151.89999389648438
Mean Values: 53.680093609417625
Standard Deviation Values: 33.29598635084099
Object ID Field:
Fields:
None
Default Mosaic Method: Center
Allowed Mosaic Methods:
SortField:
SortValue: null
Mosaic Operator: First
Default Compression Quality: 75
Default Resampling Method: Bilinear
Max Record Count: null
Max Image Height: 4100
Max Image Width: 15000
Max Download Image Count: null
Max Mosaic Image Count: null
Allow Raster Function: true
Allow Copy: true
Allow Analysis: true
Allow Compute TiePoints: false
Supports Statistics: false
Supports Advanced Queries: false
Use StandardizedQueries: true
Raster Type Infos:
Name: Raster Dataset
Description: Supports all ArcGIS Raster Datasets
Help:
Has Raster Attribute Table: false
Edit Fields Info: null
Ownership Based AccessControl For Rasters: null
Child Resources:
Info
Histograms
Statistics
Key Properties
Legend
Raster Function Infos
Supported Operations:
Export Image
Identify
Measure
Compute Histograms
Compute Statistics Histograms
Get Samples
Compute Class Statistics
Query Boundary
Compute Pixel Location
Compute Angles
Validate
Project