{ "currentVersion": 10.91, "serviceDescription": "
WSEL raster that had gaps filled using linear interpolation from nearby elevations. Original WSEL is 2yr raster.<\/SPAN><\/P><\/DIV>",
"name": "SRWMD/wsel2yrfill",
"description": " WSEL raster that had gaps filled using linear interpolation from nearby elevations. Original WSEL is 2yr raster.<\/SPAN><\/P><\/DIV>",
"extent": {
"xmin": 2121985.019197178,
"ymin": 139848.33492071612,
"xmax": 2736785.019197178,
"ymax": 604128.3349207161,
"spatialReference": {
"wkid": 2883,
"latestWkid": 2883
}
},
"initialExtent": {
"xmin": 2121985.019197178,
"ymin": 139848.33492071612,
"xmax": 2736785.019197178,
"ymax": 604128.3349207161,
"spatialReference": {
"wkid": 2883,
"latestWkid": 2883
}
},
"fullExtent": {
"xmin": 2121985.019197178,
"ymin": 139848.33492071612,
"xmax": 2736785.019197178,
"ymax": 604128.3349207161,
"spatialReference": {
"wkid": 2883,
"latestWkid": 2883
}
},
"hasMultidimensions": false,
"pixelSizeX": 20,
"pixelSizeY": 20,
"datasetFormat": "GRID",
"uncompressedSize": 2854393440,
"blockWidth": 256,
"blockHeight": 16,
"compressionType": "None",
"bandNames": [
"wsel2yr"
],
"allowCopy": true,
"allowAnalysis": true,
"bandCount": 1,
"noDataValue": -3.4028234663852886E38,
"noDataValues": [
-3.4028234663852886E38
],
"pixelType": "F32",
"minPixelSize": 0,
"maxPixelSize": 0,
"copyrightText": "",
"serviceDataType": "esriImageServiceDataTypeGeneric",
"serviceSourceType": "esriImageServiceSourceTypeDataset",
"minValues": [
2.1600000858306885
],
"maxValues": [
151.89999389648438
],
"meanValues": [
53.680093609417625
],
"stdvValues": [
33.29598635084099
],
"objectIdField": "",
"fields": [],
"capabilities": "Image,Metadata,Mensuration",
"defaultMosaicMethod": "Center",
"allowedMosaicMethods": "",
"sortField": "",
"sortValue": null,
"sortAscending": true,
"mosaicOperator": "First",
"defaultCompressionQuality": 75,
"defaultResamplingMethod": "Bilinear",
"maxImageHeight": 4100,
"maxImageWidth": 15000,
"allowRasterFunction": true,
"rasterFunctionInfos": [
{
"name": "None",
"description": "",
"help": ""
}
],
"rasterTypeInfos": [
{
"name": "Raster Dataset",
"description": "Supports all ArcGIS Raster Datasets",
"help": ""
}
],
"mensurationCapabilities": "Basic",
"hasHistograms": true,
"hasColormap": false,
"hasRasterAttributeTable": false,
"minScale": 0,
"maxScale": 0,
"exportTilesAllowed": false,
"supportsStatistics": false,
"supportsAdvancedQueries": false,
"editFieldsInfo": null,
"ownershipBasedAccessControlForRasters": null,
"allowComputeTiePoints": false,
"useStandardizedQueries": true,
"advancedQueryCapabilities": {
"useStandardizedQueries": true,
"supportsStatistics": false,
"supportsOrderBy": false,
"supportsDistinct": false,
"supportsPagination": false
},
"spatialReference": {
"wkid": 2883,
"latestWkid": 2883
}
}