View In:
ArcGIS JavaScript
ArcGIS Online Map Viewer
ArcGIS Earth
ArcMap
View Footprint In:
ArcGIS Online Map Viewer
Service Description: SRWMD/wsel100yrfil
Name: SRWMD/wsel100yrfil
Description:
Single Fused Map Cache: false
Extent:
XMin: 2101640.177198266
YMin: 1270.876197127509
XMax: 2746300.177198266
YMax: 606410.8761971275
Spatial Reference: 2883
(2883)
VCSWkid(105703)
LatestVCSWkid(6360)
Initial Extent:
XMin: 2101640.177198266
YMin: 1270.876197127509
XMax: 2746300.177198266
YMax: 606410.8761971275
Spatial Reference: 2883
(2883)
VCSWkid(105703)
LatestVCSWkid(6360)
Full Extent:
XMin: 2101640.177198266
YMin: 1270.876197127509
XMax: 2746300.177198266
YMax: 606410.8761971275
Spatial Reference: 2883
(2883)
VCSWkid(105703)
LatestVCSWkid(6360)
Pixel Size X: 20.0
Pixel Size Y: 20.0
Band Count: 1
Pixel Type: F32
RasterFunction Infos: {"rasterFunctionInfos": [{
"name": "None",
"description": "",
"help": ""
}]}
Mensuration Capabilities: Basic
Has Histograms: true
Has Colormap: false
Has Multi Dimensions : false
Rendering Rule:
Min Scale: 0
Max Scale: 0
Copyright Text:
Service Data Type: esriImageServiceDataTypeGeneric
Min Values: 2.56000018119812
Max Values: 224.60000610351562
Mean Values: 39.68702782484267
Standard Deviation Values: 36.24030486774874
Object ID Field:
Fields:
None
Default Mosaic Method: Center
Allowed Mosaic Methods:
SortField:
SortValue: null
Mosaic Operator: First
Default Compression Quality: 75
Default Resampling Method: Bilinear
Max Record Count: null
Max Image Height: 4100
Max Image Width: 15000
Max Download Image Count: null
Max Mosaic Image Count: null
Allow Raster Function: true
Allow Copy: true
Allow Analysis: true
Allow Compute TiePoints: false
Supports Statistics: false
Supports Advanced Queries: false
Use StandardizedQueries: true
Raster Type Infos:
Name: Raster Dataset
Description: Supports all ArcGIS Raster Datasets
Help:
Has Raster Attribute Table: false
Edit Fields Info: null
Ownership Based AccessControl For Rasters: null
Child Resources:
Info
Histograms
Statistics
Key Properties
Legend
Raster Function Infos
Supported Operations:
Export Image
Identify
Measure
Compute Histograms
Compute Statistics Histograms
Get Samples
Compute Class Statistics
Query Boundary
Compute Pixel Location
Compute Angles
Validate
Project