{
 "currentVersion": 10.91,
 "serviceDescription": "SRWMD/wsel100yrfil",
 "name": "SRWMD/wsel100yrfil",
 "description": "",
 "extent": {
  "xmin": 2101640.177198266,
  "ymin": 1270.876197127509,
  "xmax": 2746300.177198266,
  "ymax": 606410.8761971275,
  "spatialReference": {
   "wkid": 2883,
   "latestWkid": 2883,
   "vcsWkid": 105703,
   "latestVcsWkid": 6360
  }
 },
 "initialExtent": {
  "xmin": 2101640.177198266,
  "ymin": 1270.876197127509,
  "xmax": 2746300.177198266,
  "ymax": 606410.8761971275,
  "spatialReference": {
   "wkid": 2883,
   "latestWkid": 2883,
   "vcsWkid": 105703,
   "latestVcsWkid": 6360
  }
 },
 "fullExtent": {
  "xmin": 2101640.177198266,
  "ymin": 1270.876197127509,
  "xmax": 2746300.177198266,
  "ymax": 606410.8761971275,
  "spatialReference": {
   "wkid": 2883,
   "latestWkid": 2883,
   "vcsWkid": 105703,
   "latestVcsWkid": 6360
  }
 },
 "heightModelInfo": {
  "heightModel": "gravity_related_height",
  "vertCRS": "NAVD88_height_(ftUS)",
  "heightUnit": "us-foot"
 },
 "hasMultidimensions": false,
 "pixelSizeX": 20,
 "pixelSizeY": 20,
 "datasetFormat": "GRID",
 "uncompressedSize": 3901095524,
 "blockWidth": 256,
 "blockHeight": 16,
 "compressionType": "None",
 "bandNames": [
  "wsel100yr"
 ],
 "allowCopy": true,
 "allowAnalysis": true,
 "bandCount": 1,
 "noDataValue": -3.4028234663852886E38,
 "noDataValues": [
  -3.4028234663852886E38
 ],
 "pixelType": "F32",
 "minPixelSize": 0,
 "maxPixelSize": 0,
 "copyrightText": "",
 "serviceDataType": "esriImageServiceDataTypeGeneric",
 "serviceSourceType": "esriImageServiceSourceTypeDataset",
 "minValues": [
  2.56000018119812
 ],
 "maxValues": [
  224.60000610351562
 ],
 "meanValues": [
  39.68702782484267
 ],
 "stdvValues": [
  36.24030486774874
 ],
 "objectIdField": "",
 "fields": [],
 "capabilities": "Image,Metadata,Mensuration",
 "defaultMosaicMethod": "Center",
 "allowedMosaicMethods": "",
 "sortField": "",
 "sortValue": null,
 "sortAscending": true,
 "mosaicOperator": "First",
 "defaultCompressionQuality": 75,
 "defaultResamplingMethod": "Bilinear",
 "maxImageHeight": 4100,
 "maxImageWidth": 15000,
 "allowRasterFunction": true,
 "rasterFunctionInfos": [
  {
   "name": "None",
   "description": "",
   "help": ""
  }
 ],
 "rasterTypeInfos": [
  {
   "name": "Raster Dataset",
   "description": "Supports all ArcGIS Raster Datasets",
   "help": ""
  }
 ],
 "mensurationCapabilities": "Basic",
 "hasHistograms": true,
 "hasColormap": false,
 "hasRasterAttributeTable": false,
 "minScale": 0,
 "maxScale": 0,
 "exportTilesAllowed": false,
 "supportsStatistics": false,
 "supportsAdvancedQueries": false,
 "editFieldsInfo": null,
 "ownershipBasedAccessControlForRasters": null,
 "allowComputeTiePoints": false,
 "useStandardizedQueries": true,
 "advancedQueryCapabilities": {
  "useStandardizedQueries": true,
  "supportsStatistics": false,
  "supportsOrderBy": false,
  "supportsDistinct": false,
  "supportsPagination": false
 },
 "spatialReference": {
  "wkid": 2883,
  "latestWkid": 2883,
  "vcsWkid": 105703,
  "latestVcsWkid": 6360
 }
}
