View In:
ArcGIS JavaScript
ArcGIS Online Map Viewer
ArcGIS Earth
ArcMap
View Footprint In:
ArcGIS Online Map Viewer
Service Description: IA_DNR/WSE_01pct
Name: IA_DNR/WSE_01pct
Description:
Single Fused Map Cache: false
Extent:
XMin: 397570.3523911568
YMin: 4591537.598275223
XMax: 716197.3491535883
YMax: 4731779.59685023
Spatial Reference: 26915
(26915)
VCSWkid(105703)
LatestVCSWkid(6360)
Initial Extent:
XMin: 397570.3523911568
YMin: 4591537.598275223
XMax: 716197.3491535883
YMax: 4731779.59685023
Spatial Reference: 26915
(26915)
VCSWkid(105703)
LatestVCSWkid(6360)
Full Extent:
XMin: 397570.3523911568
YMin: 4591537.598275223
XMax: 716197.3491535883
YMax: 4731779.59685023
Spatial Reference: 26915
(26915)
VCSWkid(105703)
LatestVCSWkid(6360)
Pixel Size X: 0.9999999898390015
Pixel Size Y: 0.9999999898390464
Band Count: 1
Pixel Type: F32
RasterFunction Infos: {"rasterFunctionInfos": [{
"name": "None",
"description": "",
"help": ""
}]}
Mensuration Capabilities: Basic
Has Histograms: true
Has Colormap: false
Has Multi Dimensions : false
Rendering Rule:
Min Scale: 0
Max Scale: 0
Copyright Text:
Service Data Type: esriImageServiceDataTypeGeneric
Min Values: 549.4343872070312
Max Values: 1085
Mean Values: 675.3815466252111
Standard Deviation Values: 129.78251845982436
Object ID Field:
Fields:
None
Default Mosaic Method: Center
Allowed Mosaic Methods:
SortField:
SortValue: null
Mosaic Operator: First
Default Compression Quality: 75
Default Resampling Method: Bilinear
Max Record Count: null
Max Image Height: 4100
Max Image Width: 15000
Max Download Image Count: null
Max Mosaic Image Count: null
Allow Raster Function: true
Allow Copy: null
Allow Analysis: null
Allow Compute TiePoints: false
Supports Statistics: false
Supports Advanced Queries: false
Use StandardizedQueries: true
Raster Type Infos:
Name: Raster Dataset
Description: Supports all ArcGIS Raster Datasets
Help:
Has Raster Attribute Table: false
Edit Fields Info: null
Ownership Based AccessControl For Rasters: null
Child Resources:
Info
Histograms
Key Properties
Legend
Raster Function Infos
Supported Operations:
Export Image
Identify
Measure
Compute Histograms
Compute Statistics Histograms
Get Samples
Compute Class Statistics
Query Boundary
Compute Pixel Location
Compute Angles
Validate
Project