{
 "currentVersion": 10.91,
 "serviceDescription": "IA_DNR/WSE_01pct",
 "name": "IA_DNR/WSE_01pct",
 "description": "",
 "extent": {
  "xmin": 397570.3523911568,
  "ymin": 4591537.598275223,
  "xmax": 716197.3491535883,
  "ymax": 4731779.59685023,
  "spatialReference": {
   "wkid": 26915,
   "latestWkid": 26915,
   "vcsWkid": 105703,
   "latestVcsWkid": 6360
  }
 },
 "initialExtent": {
  "xmin": 397570.3523911568,
  "ymin": 4591537.598275223,
  "xmax": 716197.3491535883,
  "ymax": 4731779.59685023,
  "spatialReference": {
   "wkid": 26915,
   "latestWkid": 26915,
   "vcsWkid": 105703,
   "latestVcsWkid": 6360
  }
 },
 "fullExtent": {
  "xmin": 397570.3523911568,
  "ymin": 4591537.598275223,
  "xmax": 716197.3491535883,
  "ymax": 4731779.59685023,
  "spatialReference": {
   "wkid": 26915,
   "latestWkid": 26915,
   "vcsWkid": 105703,
   "latestVcsWkid": 6360
  }
 },
 "heightModelInfo": {
  "heightModel": "gravity_related_height",
  "vertCRS": "NAVD88_height_(ftUS)",
  "heightUnit": "us-foot"
 },
 "pixelSizeX": 0.9999999898390015,
 "pixelSizeY": 0.9999999898390464,
 "bandCount": 1,
 "pixelType": "F32",
 "minPixelSize": 0,
 "maxPixelSize": 0,
 "copyrightText": "",
 "serviceDataType": "esriImageServiceDataTypeGeneric",
 "minValues": [
  549.4343872070312
 ],
 "maxValues": [
  1085
 ],
 "meanValues": [
  675.3815466252111
 ],
 "stdvValues": [
  129.78251845982436
 ],
 "objectIdField": "",
 "fields": [],
 "capabilities": "Image,Metadata,Mensuration",
 "defaultMosaicMethod": "Center",
 "allowedMosaicMethods": "",
 "sortField": "",
 "sortValue": null,
 "sortAscending": true,
 "mosaicOperator": "First",
 "defaultCompressionQuality": 75,
 "defaultResamplingMethod": "Bilinear",
 "maxImageHeight": 4100,
 "maxImageWidth": 15000,
 "allowRasterFunction": true,
 "rasterFunctionInfos": [
  {
   "name": "None",
   "description": "",
   "help": ""
  }
 ],
 "rasterTypeInfos": [
  {
   "name": "Raster Dataset",
   "description": "Supports all ArcGIS Raster Datasets",
   "help": ""
  }
 ],
 "mensurationCapabilities": "Basic",
 "hasHistograms": true,
 "hasColormap": false,
 "hasRasterAttributeTable": false,
 "minScale": 0,
 "maxScale": 0,
 "exportTilesAllowed": false,
 "hasMultidimensions": false,
 "supportsStatistics": false,
 "supportsAdvancedQueries": false,
 "editFieldsInfo": null,
 "ownershipBasedAccessControlForRasters": null,
 "allowComputeTiePoints": false,
 "useStandardizedQueries": true,
 "advancedQueryCapabilities": {
  "useStandardizedQueries": true,
  "supportsStatistics": false,
  "supportsOrderBy": false,
  "supportsDistinct": false,
  "supportsPagination": false
 },
 "spatialReference": {
  "wkid": 26915,
  "latestWkid": 26915,
  "vcsWkid": 105703,
  "latestVcsWkid": 6360
 }
}
