View In:
ArcGIS JavaScript
ArcGIS Online Map Viewer
ArcGIS Earth
ArcMap
View Footprint In:
ArcGIS Online Map Viewer
Service Description: GADFIRM/wse_01_utm16
Name: GADFIRM/wse_01_utm16
Description:
Single Fused Map Cache: false
Extent:
XMin: 664305.3337489851
YMin: 3394649.877879977
XMax: 808562.8411431201
YMax: 3830461.085107662
Spatial Reference: 26916
(26916)
LatestVCSWkid(0)
Initial Extent:
XMin: 664305.3337489851
YMin: 3394649.877879977
XMax: 808562.8411431201
YMax: 3830461.085107662
Spatial Reference: 26916
(26916)
LatestVCSWkid(0)
Full Extent:
XMin: 664305.3337489851
YMin: 3394649.877879977
XMax: 808562.8411431201
YMax: 3830461.085107662
Spatial Reference: 26916
(26916)
LatestVCSWkid(0)
Pixel Size X: 1.2703532797989996
Pixel Size Y: 1.2703532797990007
Band Count: 1
Pixel Type: F32
RasterFunction Infos: {"rasterFunctionInfos": [{
"name": "None",
"description": "",
"help": ""
}]}
Mensuration Capabilities: Basic
Has Histograms: true
Has Colormap: false
Has Multi Dimensions : false
Rendering Rule:
Min Scale: 0
Max Scale: 0
Copyright Text:
Service Data Type: esriImageServiceDataTypeGeneric
Min Values: 69.69999694824219
Max Values: 1665.7000732421875
Mean Values: 316.53450464377227
Standard Deviation Values: 275.6192970989683
Object ID Field:
Fields:
None
Default Mosaic Method: Center
Allowed Mosaic Methods:
SortField:
SortValue: null
Mosaic Operator: First
Default Compression Quality: 75
Default Resampling Method: Bilinear
Max Record Count: null
Max Image Height: 4100
Max Image Width: 15000
Max Download Image Count: null
Max Mosaic Image Count: null
Allow Raster Function: true
Allow Copy: null
Allow Analysis: null
Allow Compute TiePoints: false
Supports Statistics: false
Supports Advanced Queries: false
Use StandardizedQueries: true
Raster Type Infos:
Name: Raster Dataset
Description: Supports all ArcGIS Raster Datasets
Help:
Has Raster Attribute Table: false
Edit Fields Info: null
Ownership Based AccessControl For Rasters: null
Child Resources:
Info
Histograms
Key Properties
Legend
Raster Function Infos
Supported Operations:
Export Image
Identify
Measure
Compute Histograms
Compute Statistics Histograms
Get Samples
Compute Class Statistics
Query Boundary
Compute Pixel Location
Compute Angles
Validate
Project