{
 "currentVersion": 10.91,
 "serviceDescription": "GADFIRM/wse_01_utm16",
 "name": "GADFIRM/wse_01_utm16",
 "description": "",
 "extent": {
  "xmin": 664305.3337489851,
  "ymin": 3394649.877879977,
  "xmax": 808562.8411431201,
  "ymax": 3830461.085107662,
  "spatialReference": {
   "wkid": 26916,
   "latestWkid": 26916
  }
 },
 "initialExtent": {
  "xmin": 664305.3337489851,
  "ymin": 3394649.877879977,
  "xmax": 808562.8411431201,
  "ymax": 3830461.085107662,
  "spatialReference": {
   "wkid": 26916,
   "latestWkid": 26916
  }
 },
 "fullExtent": {
  "xmin": 664305.3337489851,
  "ymin": 3394649.877879977,
  "xmax": 808562.8411431201,
  "ymax": 3830461.085107662,
  "spatialReference": {
   "wkid": 26916,
   "latestWkid": 26916
  }
 },
 "pixelSizeX": 1.2703532797989996,
 "pixelSizeY": 1.2703532797990007,
 "bandCount": 1,
 "pixelType": "F32",
 "minPixelSize": 0,
 "maxPixelSize": 0,
 "copyrightText": "",
 "serviceDataType": "esriImageServiceDataTypeGeneric",
 "minValues": [
  69.69999694824219
 ],
 "maxValues": [
  1665.7000732421875
 ],
 "meanValues": [
  316.53450464377227
 ],
 "stdvValues": [
  275.6192970989683
 ],
 "objectIdField": "",
 "fields": [],
 "capabilities": "Image,Metadata,Mensuration",
 "defaultMosaicMethod": "Center",
 "allowedMosaicMethods": "",
 "sortField": "",
 "sortValue": null,
 "sortAscending": true,
 "mosaicOperator": "First",
 "defaultCompressionQuality": 75,
 "defaultResamplingMethod": "Bilinear",
 "maxImageHeight": 4100,
 "maxImageWidth": 15000,
 "allowRasterFunction": true,
 "rasterFunctionInfos": [
  {
   "name": "None",
   "description": "",
   "help": ""
  }
 ],
 "rasterTypeInfos": [
  {
   "name": "Raster Dataset",
   "description": "Supports all ArcGIS Raster Datasets",
   "help": ""
  }
 ],
 "mensurationCapabilities": "Basic",
 "hasHistograms": true,
 "hasColormap": false,
 "hasRasterAttributeTable": false,
 "minScale": 0,
 "maxScale": 0,
 "exportTilesAllowed": false,
 "hasMultidimensions": false,
 "supportsStatistics": false,
 "supportsAdvancedQueries": false,
 "editFieldsInfo": null,
 "ownershipBasedAccessControlForRasters": null,
 "allowComputeTiePoints": false,
 "useStandardizedQueries": true,
 "advancedQueryCapabilities": {
  "useStandardizedQueries": true,
  "supportsStatistics": false,
  "supportsOrderBy": false,
  "supportsDistinct": false,
  "supportsPagination": false
 },
 "spatialReference": {
  "wkid": 26916,
  "latestWkid": 26916
 }
}
