View In:
ArcGIS JavaScript
ArcGIS Online Map Viewer
ArcGIS Earth
ArcMap
View Footprint In:
ArcGIS Online Map Viewer
Service Description: SRWMD/wsel10yrinfc
Name: SRWMD/wsel10yrinfc
Description:
Single Fused Map Cache: false
Extent:
XMin: 2101640.3445557845
YMin: 3975.1414190469077
XMax: 2736600.3445557845
YMax: 603435.1414190469
Spatial Reference: 2883
(2883)
LatestVCSWkid(0)
Initial Extent:
XMin: 2101640.3445557845
YMin: 3975.1414190469077
XMax: 2736600.3445557845
YMax: 603435.1414190469
Spatial Reference: 2883
(2883)
LatestVCSWkid(0)
Full Extent:
XMin: 2101640.3445557845
YMin: 3975.1414190469077
XMax: 2736600.3445557845
YMax: 603435.1414190469
Spatial Reference: 2883
(2883)
LatestVCSWkid(0)
Pixel Size X: 20.0
Pixel Size Y: 20.0
Band Count: 1
Pixel Type: F32
RasterFunction Infos: {"rasterFunctionInfos": [{
"name": "None",
"description": "",
"help": ""
}]}
Mensuration Capabilities: Basic
Has Histograms: true
Has Colormap: false
Has Multi Dimensions : false
Rendering Rule:
Min Scale: 0
Max Scale: 0
Copyright Text:
Service Data Type: esriImageServiceDataTypeGeneric
Min Values: -1.0551762580871582
Max Values: 152.1999969482422
Mean Values: 34.950478670897105
Standard Deviation Values: 34.831850525931785
Object ID Field:
Fields:
None
Default Mosaic Method: Center
Allowed Mosaic Methods:
SortField:
SortValue: null
Mosaic Operator: First
Default Compression Quality: 75
Default Resampling Method: Bilinear
Max Record Count: null
Max Image Height: 4100
Max Image Width: 15000
Max Download Image Count: null
Max Mosaic Image Count: null
Allow Raster Function: true
Allow Copy: true
Allow Analysis: true
Allow Compute TiePoints: false
Supports Statistics: false
Supports Advanced Queries: false
Use StandardizedQueries: true
Raster Type Infos:
Name: Raster Dataset
Description: Supports all ArcGIS Raster Datasets
Help:
Has Raster Attribute Table: false
Edit Fields Info: null
Ownership Based AccessControl For Rasters: null
Child Resources:
Info
Histograms
Statistics
Key Properties
Legend
Raster Function Infos
Supported Operations:
Export Image
Identify
Measure
Compute Histograms
Compute Statistics Histograms
Get Samples
Compute Class Statistics
Query Boundary
Compute Pixel Location
Compute Angles
Validate
Project