View In:
ArcGIS JavaScript
ArcGIS Online Map Viewer
ArcGIS Earth
ArcMap
View Footprint In:
ArcGIS Online Map Viewer
Service Description: GADFIRM/wse_01_utm17
Name: GADFIRM/wse_01_utm17
Description:
Single Fused Map Cache: false
Extent:
XMin: 213157.21690138298
YMin: 3360087.781733822
XMax: 497295.3931777177
YMax: 3858616.610791449
Spatial Reference: 26917
(26917)
LatestVCSWkid(0)
Initial Extent:
XMin: 213157.21690138298
YMin: 3360087.781733822
XMax: 497295.3931777177
YMax: 3858616.610791449
Spatial Reference: 26917
(26917)
LatestVCSWkid(0)
Full Extent:
XMin: 213157.21690138298
YMin: 3360087.781733822
XMax: 497295.3931777177
YMax: 3858616.610791449
Spatial Reference: 26917
(26917)
LatestVCSWkid(0)
Pixel Size X: 3.048006096012
Pixel Size Y: 3.048006096012001
Band Count: 1
Pixel Type: F32
RasterFunction Infos: {"rasterFunctionInfos": [{
"name": "None",
"description": "",
"help": ""
}]}
Mensuration Capabilities: Basic
Has Histograms: true
Has Colormap: false
Has Multi Dimensions : false
Rendering Rule:
Min Scale: 0
Max Scale: 0
Copyright Text:
Service Data Type: esriImageServiceDataTypeGeneric
Min Values: 4.199999809265137
Max Values: 1801.699951171875
Mean Values: 210.15099637019446
Standard Deviation Values: 285.26058405446054
Object ID Field:
Fields:
None
Default Mosaic Method: Center
Allowed Mosaic Methods:
SortField:
SortValue: null
Mosaic Operator: First
Default Compression Quality: 75
Default Resampling Method: Bilinear
Max Record Count: null
Max Image Height: 4100
Max Image Width: 15000
Max Download Image Count: null
Max Mosaic Image Count: null
Allow Raster Function: true
Allow Copy: null
Allow Analysis: null
Allow Compute TiePoints: false
Supports Statistics: false
Supports Advanced Queries: false
Use StandardizedQueries: true
Raster Type Infos:
Name: Raster Dataset
Description: Supports all ArcGIS Raster Datasets
Help:
Has Raster Attribute Table: false
Edit Fields Info: null
Ownership Based AccessControl For Rasters: null
Child Resources:
Info
Histograms
Key Properties
Legend
Raster Function Infos
Supported Operations:
Export Image
Identify
Measure
Compute Histograms
Compute Statistics Histograms
Get Samples
Compute Class Statistics
Query Boundary
Compute Pixel Location
Compute Angles
Validate
Project