{
 "currentVersion": 10.91,
 "serviceDescription": "Percent Annual Chance Flood over 30 Year Period",
 "name": "SRWMD/pct30yrchance",
 "description": "Percent Annual Chance Flood over 30 Year Period",
 "extent": {
  "xmin": 2530965.193997979,
  "ymin": 429129.88652309775,
  "xmax": 2578515.193997979,
  "ymax": 508209.88652309775,
  "spatialReference": {
   "wkid": 2883,
   "latestWkid": 2883
  }
 },
 "initialExtent": {
  "xmin": 2530965.193997979,
  "ymin": 429129.88652309775,
  "xmax": 2578515.193997979,
  "ymax": 508209.88652309775,
  "spatialReference": {
   "wkid": 2883,
   "latestWkid": 2883
  }
 },
 "fullExtent": {
  "xmin": 2530965.193997979,
  "ymin": 429129.88652309775,
  "xmax": 2578515.193997979,
  "ymax": 508209.88652309775,
  "spatialReference": {
   "wkid": 2883,
   "latestWkid": 2883
  }
 },
 "pixelSizeX": 5,
 "pixelSizeY": 5,
 "bandCount": 3,
 "pixelType": "U8",
 "minPixelSize": 0,
 "maxPixelSize": 0,
 "copyrightText": "SRWMD",
 "serviceDataType": "esriImageServiceDataTypeRGB",
 "minValues": [],
 "maxValues": [],
 "meanValues": [],
 "stdvValues": [],
 "objectIdField": "",
 "fields": [],
 "capabilities": "Image,Metadata,Mensuration",
 "defaultMosaicMethod": "Center",
 "allowedMosaicMethods": "",
 "sortField": "",
 "sortValue": null,
 "sortAscending": true,
 "mosaicOperator": "First",
 "defaultCompressionQuality": 75,
 "defaultResamplingMethod": "Bilinear",
 "maxImageHeight": 4100,
 "maxImageWidth": 15000,
 "allowRasterFunction": true,
 "rasterFunctionInfos": [
  {
   "name": "None",
   "description": "",
   "help": ""
  }
 ],
 "rasterTypeInfos": [
  {
   "name": "Raster Dataset",
   "description": "Supports all ArcGIS Raster Datasets",
   "help": ""
  }
 ],
 "mensurationCapabilities": "Basic",
 "hasHistograms": false,
 "hasColormap": false,
 "hasRasterAttributeTable": false,
 "minScale": 0,
 "maxScale": 0,
 "exportTilesAllowed": false,
 "hasMultidimensions": false,
 "supportsStatistics": false,
 "supportsAdvancedQueries": false,
 "editFieldsInfo": null,
 "ownershipBasedAccessControlForRasters": null,
 "allowComputeTiePoints": false,
 "useStandardizedQueries": true,
 "advancedQueryCapabilities": {
  "useStandardizedQueries": true,
  "supportsStatistics": false,
  "supportsOrderBy": false,
  "supportsDistinct": false,
  "supportsPagination": false
 },
 "spatialReference": {
  "wkid": 2883,
  "latestWkid": 2883
 }
}
